BEGIN:VCALENDAR
VERSION:2.0
PRODID:-//FSG 1625 Freyung e.V. - ECPv6.15.12.2//NONSGML v1.0//EN
CALSCALE:GREGORIAN
METHOD:PUBLISH
X-WR-CALNAME:FSG 1625 Freyung e.V.
X-ORIGINAL-URL:https://www.fsg-freyung.de
X-WR-CALDESC:Veranstaltungen für FSG 1625 Freyung e.V.
REFRESH-INTERVAL;VALUE=DURATION:PT1H
X-Robots-Tag:noindex
X-PUBLISHED-TTL:PT1H
BEGIN:VTIMEZONE
TZID:Europe/Berlin
BEGIN:DAYLIGHT
TZOFFSETFROM:+0100
TZOFFSETTO:+0200
TZNAME:CEST
DTSTART:20250330T010000
END:DAYLIGHT
BEGIN:STANDARD
TZOFFSETFROM:+0200
TZOFFSETTO:+0100
TZNAME:CET
DTSTART:20251026T010000
END:STANDARD
BEGIN:DAYLIGHT
TZOFFSETFROM:+0100
TZOFFSETTO:+0200
TZNAME:CEST
DTSTART:20260329T010000
END:DAYLIGHT
BEGIN:STANDARD
TZOFFSETFROM:+0200
TZOFFSETTO:+0100
TZNAME:CET
DTSTART:20261025T010000
END:STANDARD
BEGIN:DAYLIGHT
TZOFFSETFROM:+0100
TZOFFSETTO:+0200
TZNAME:CEST
DTSTART:20270328T010000
END:DAYLIGHT
BEGIN:STANDARD
TZOFFSETFROM:+0200
TZOFFSETTO:+0100
TZNAME:CET
DTSTART:20271031T010000
END:STANDARD
END:VTIMEZONE
BEGIN:VEVENT
DTSTART;TZID=Europe/Berlin:20260318T190000
DTEND;TZID=Europe/Berlin:20260318T210000
DTSTAMP:20260424T171622
CREATED:20260212T192325Z
LAST-MODIFIED:20260212T192325Z
UID:2351-1773860400-1773867600@www.fsg-freyung.de
SUMMARY:Musikantenzamkemma
DESCRIPTION:
URL:https://www.fsg-freyung.de/event/musikantenzamkemma-2/
ORGANIZER;CN="Feuersch%C3%BCtzengesellschaft Freyung 1625 e.V.":MAILTO:info@fsg-freyung.de
END:VEVENT
BEGIN:VEVENT
DTSTART;VALUE=DATE:20260328
DTEND;VALUE=DATE:20260329
DTSTAMP:20260424T171622
CREATED:20260206T173241Z
LAST-MODIFIED:20260223T060201Z
UID:2316-1774656000-1774742399@www.fsg-freyung.de
SUMMARY:Königsschießen
DESCRIPTION:
URL:https://www.fsg-freyung.de/event/koenigsschiessen-3/
ORGANIZER;CN="Feuersch%C3%BCtzengesellschaft Freyung 1625 e.V.":MAILTO:info@fsg-freyung.de
END:VEVENT
END:VCALENDAR