BEGIN:VCALENDAR
VERSION:2.0
PRODID:-//FSG 1625 Freyung e.V. - ECPv6.15.12.2//NONSGML v1.0//EN
CALSCALE:GREGORIAN
METHOD:PUBLISH
X-ORIGINAL-URL:https://www.fsg-freyung.de
X-WR-CALDESC:Veranstaltungen für FSG 1625 Freyung e.V.
REFRESH-INTERVAL;VALUE=DURATION:PT1H
X-Robots-Tag:noindex
X-PUBLISHED-TTL:PT1H
BEGIN:VTIMEZONE
TZID:Europe/Berlin
BEGIN:DAYLIGHT
TZOFFSETFROM:+0100
TZOFFSETTO:+0200
TZNAME:CEST
DTSTART:20250330T010000
END:DAYLIGHT
BEGIN:STANDARD
TZOFFSETFROM:+0200
TZOFFSETTO:+0100
TZNAME:CET
DTSTART:20251026T010000
END:STANDARD
BEGIN:DAYLIGHT
TZOFFSETFROM:+0100
TZOFFSETTO:+0200
TZNAME:CEST
DTSTART:20260329T010000
END:DAYLIGHT
BEGIN:STANDARD
TZOFFSETFROM:+0200
TZOFFSETTO:+0100
TZNAME:CET
DTSTART:20261025T010000
END:STANDARD
BEGIN:DAYLIGHT
TZOFFSETFROM:+0100
TZOFFSETTO:+0200
TZNAME:CEST
DTSTART:20270328T010000
END:DAYLIGHT
BEGIN:STANDARD
TZOFFSETFROM:+0200
TZOFFSETTO:+0100
TZNAME:CET
DTSTART:20271031T010000
END:STANDARD
END:VTIMEZONE
BEGIN:VEVENT
DTSTART;TZID=Europe/Berlin:20260425T180000
DTEND;TZID=Europe/Berlin:20260425T200000
DTSTAMP:20260424T172009
CREATED:20260206T173721Z
LAST-MODIFIED:20260206T173721Z
UID:2324-1777140000-1777147200@www.fsg-freyung.de
SUMMARY:Siegerehrung der KK-Meisterschaft
DESCRIPTION:
URL:https://www.fsg-freyung.de/event/siegerehrung-der-kk-meisterschaft/
ORGANIZER;CN="Feuersch%C3%BCtzengesellschaft Freyung 1625 e.V.":MAILTO:info@fsg-freyung.de
END:VEVENT
BEGIN:VEVENT
DTSTART;VALUE=DATE:20260606
DTEND;VALUE=DATE:20260607
DTSTAMP:20260424T172009
CREATED:20260206T172831Z
LAST-MODIFIED:20260206T172831Z
UID:2313-1780704000-1780790399@www.fsg-freyung.de
SUMMARY:Westernschießen
DESCRIPTION:
URL:https://www.fsg-freyung.de/event/westernschiessen-2/
ORGANIZER;CN="Feuersch%C3%BCtzengesellschaft Freyung 1625 e.V.":MAILTO:info@fsg-freyung.de
END:VEVENT
BEGIN:VEVENT
DTSTART;VALUE=DATE:20260908
DTEND;VALUE=DATE:20260909
DTSTAMP:20260424T172009
CREATED:20260212T192616Z
LAST-MODIFIED:20260212T192616Z
UID:2354-1788825600-1788911999@www.fsg-freyung.de
SUMMARY:Böllerbeschuss
DESCRIPTION:
URL:https://www.fsg-freyung.de/event/boellerbeschuss-2/
ORGANIZER;CN="Feuersch%C3%BCtzengesellschaft Freyung 1625 e.V.":MAILTO:info@fsg-freyung.de
END:VEVENT
BEGIN:VEVENT
DTSTART;VALUE=DATE:20260919
DTEND;VALUE=DATE:20260920
DTSTAMP:20260424T172009
CREATED:20260206T174159Z
LAST-MODIFIED:20260206T174159Z
UID:2328-1789776000-1789862399@www.fsg-freyung.de
SUMMARY:Tag der offenen Tür
DESCRIPTION:
URL:https://www.fsg-freyung.de/event/tag-der-offenen-tuer/
ORGANIZER;CN="Feuersch%C3%BCtzengesellschaft Freyung 1625 e.V.":MAILTO:info@fsg-freyung.de
END:VEVENT
BEGIN:VEVENT
DTSTART;TZID=Europe/Berlin:20261107T180000
DTEND;TZID=Europe/Berlin:20261107T210000
DTSTAMP:20260424T172009
CREATED:20260206T173905Z
LAST-MODIFIED:20260206T173905Z
UID:2326-1794074400-1794085200@www.fsg-freyung.de
SUMMARY:Jahreshautpversammlung
DESCRIPTION:
URL:https://www.fsg-freyung.de/event/jahreshautpversammlung/
ORGANIZER;CN="Feuersch%C3%BCtzengesellschaft Freyung 1625 e.V.":MAILTO:info@fsg-freyung.de
END:VEVENT
BEGIN:VEVENT
DTSTART;TZID=Europe/Berlin:20261123T173000
DTEND;TZID=Europe/Berlin:20261123T200000
DTSTAMP:20260424T172009
CREATED:20260206T174321Z
LAST-MODIFIED:20260206T174321Z
UID:2330-1795455000-1795464000@www.fsg-freyung.de
SUMMARY:Nikolausschießen Luftgewehr 10m
DESCRIPTION:
URL:https://www.fsg-freyung.de/event/nikolausschiessen-luftgewehr-10m/
ORGANIZER;CN="Feuersch%C3%BCtzengesellschaft Freyung 1625 e.V.":MAILTO:info@fsg-freyung.de
END:VEVENT
BEGIN:VEVENT
DTSTART;VALUE=DATE:20261128
DTEND;VALUE=DATE:20261130
DTSTAMP:20260424T172009
CREATED:20260206T174600Z
LAST-MODIFIED:20260206T174600Z
UID:2332-1795824000-1795996799@www.fsg-freyung.de
SUMMARY:Nikolausschießen Luftgewehr 10m
DESCRIPTION:
URL:https://www.fsg-freyung.de/event/nikolausschiessen-luftgewehr-10m-2/
ORGANIZER;CN="Feuersch%C3%BCtzengesellschaft Freyung 1625 e.V.":MAILTO:info@fsg-freyung.de
END:VEVENT
BEGIN:VEVENT
DTSTART;TZID=Europe/Berlin:20261130T173000
DTEND;TZID=Europe/Berlin:20261130T200000
DTSTAMP:20260424T172009
CREATED:20260206T174640Z
LAST-MODIFIED:20260206T174640Z
UID:2334-1796059800-1796068800@www.fsg-freyung.de
SUMMARY:Nikolausschießen Luftgewehr 10m
DESCRIPTION:
URL:https://www.fsg-freyung.de/event/nikolausschiessen-luftgewehr-10m-3/
ORGANIZER;CN="Feuersch%C3%BCtzengesellschaft Freyung 1625 e.V.":MAILTO:info@fsg-freyung.de
END:VEVENT
BEGIN:VEVENT
DTSTART;VALUE=DATE:20261205
DTEND;VALUE=DATE:20261207
DTSTAMP:20260424T172009
CREATED:20260206T174718Z
LAST-MODIFIED:20260206T174718Z
UID:2336-1796428800-1796601599@www.fsg-freyung.de
SUMMARY:Nikolausschießen Luftgewehr 10m
DESCRIPTION:
URL:https://www.fsg-freyung.de/event/nikolausschiessen-luftgewehr-10m-4/
ORGANIZER;CN="Feuersch%C3%BCtzengesellschaft Freyung 1625 e.V.":MAILTO:info@fsg-freyung.de
END:VEVENT
BEGIN:VEVENT
DTSTART;TZID=Europe/Berlin:20261212T170000
DTEND;TZID=Europe/Berlin:20261212T220000
DTSTAMP:20260424T172009
CREATED:20260206T174812Z
LAST-MODIFIED:20260206T174812Z
UID:2338-1797094800-1797112800@www.fsg-freyung.de
SUMMARY:Adventsfeier
DESCRIPTION:
URL:https://www.fsg-freyung.de/event/adventsfeier-2/
ORGANIZER;CN="Feuersch%C3%BCtzengesellschaft Freyung 1625 e.V.":MAILTO:info@fsg-freyung.de
END:VEVENT
END:VCALENDAR