BEGIN:VCALENDAR
VERSION:2.0
PRODID:-//FSG 1625 Freyung e.V. - ECPv6.15.12.2//NONSGML v1.0//EN
CALSCALE:GREGORIAN
METHOD:PUBLISH
X-ORIGINAL-URL:https://www.fsg-freyung.de
X-WR-CALDESC:Veranstaltungen für FSG 1625 Freyung e.V.
REFRESH-INTERVAL;VALUE=DURATION:PT1H
X-Robots-Tag:noindex
X-PUBLISHED-TTL:PT1H
BEGIN:VTIMEZONE
TZID:Europe/Berlin
BEGIN:DAYLIGHT
TZOFFSETFROM:+0100
TZOFFSETTO:+0200
TZNAME:CEST
DTSTART:20230326T010000
END:DAYLIGHT
BEGIN:STANDARD
TZOFFSETFROM:+0200
TZOFFSETTO:+0100
TZNAME:CET
DTSTART:20231029T010000
END:STANDARD
BEGIN:DAYLIGHT
TZOFFSETFROM:+0100
TZOFFSETTO:+0200
TZNAME:CEST
DTSTART:20240331T010000
END:DAYLIGHT
BEGIN:STANDARD
TZOFFSETFROM:+0200
TZOFFSETTO:+0100
TZNAME:CET
DTSTART:20241027T010000
END:STANDARD
BEGIN:DAYLIGHT
TZOFFSETFROM:+0100
TZOFFSETTO:+0200
TZNAME:CEST
DTSTART:20250330T010000
END:DAYLIGHT
BEGIN:STANDARD
TZOFFSETFROM:+0200
TZOFFSETTO:+0100
TZNAME:CET
DTSTART:20251026T010000
END:STANDARD
BEGIN:DAYLIGHT
TZOFFSETFROM:+0100
TZOFFSETTO:+0200
TZNAME:CEST
DTSTART:20260329T010000
END:DAYLIGHT
BEGIN:STANDARD
TZOFFSETFROM:+0200
TZOFFSETTO:+0100
TZNAME:CET
DTSTART:20261025T010000
END:STANDARD
BEGIN:DAYLIGHT
TZOFFSETFROM:+0100
TZOFFSETTO:+0200
TZNAME:CEST
DTSTART:20270328T010000
END:DAYLIGHT
BEGIN:STANDARD
TZOFFSETFROM:+0200
TZOFFSETTO:+0100
TZNAME:CET
DTSTART:20271031T010000
END:STANDARD
END:VTIMEZONE
BEGIN:VEVENT
DTSTART;VALUE=DATE:20260418
DTEND;VALUE=DATE:20260420
DTSTAMP:20260424T184927
CREATED:20260206T173628Z
LAST-MODIFIED:20260206T173628Z
UID:2322-1776470400-1776643199@www.fsg-freyung.de
SUMMARY:KK-Meisterschaft für Vereine\, Behörden & Stammtische
DESCRIPTION:
URL:https://www.fsg-freyung.de/event/kk-meisterschaft-fuer-vereine-behoerden-stammtische-3/
ORGANIZER;CN="Feuersch%C3%BCtzengesellschaft Freyung 1625 e.V.":MAILTO:info@fsg-freyung.de
END:VEVENT
BEGIN:VEVENT
DTSTART;TZID=Europe/Berlin:20260414T160000
DTEND;TZID=Europe/Berlin:20260414T210000
DTSTAMP:20260424T184927
CREATED:20260206T173544Z
LAST-MODIFIED:20260206T173544Z
UID:2320-1776182400-1776200400@www.fsg-freyung.de
SUMMARY:KK-Meisterschaft für Vereine\, Behörden & Stammtische
DESCRIPTION:
URL:https://www.fsg-freyung.de/event/kk-meisterschaft-fuer-vereine-behoerden-stammtische-2/
ORGANIZER;CN="Feuersch%C3%BCtzengesellschaft Freyung 1625 e.V.":MAILTO:info@fsg-freyung.de
END:VEVENT
BEGIN:VEVENT
DTSTART;VALUE=DATE:20260411
DTEND;VALUE=DATE:20260413
DTSTAMP:20260424T184927
CREATED:20260206T173437Z
LAST-MODIFIED:20260206T173437Z
UID:2318-1775865600-1776038399@www.fsg-freyung.de
SUMMARY:KK-Meisterschaft für Vereine\, Behörden & Stammtische
DESCRIPTION:
URL:https://www.fsg-freyung.de/event/kk-meisterschaft-fuer-vereine-behoerden-stammtische/
ORGANIZER;CN="Feuersch%C3%BCtzengesellschaft Freyung 1625 e.V.":MAILTO:info@fsg-freyung.de
END:VEVENT
BEGIN:VEVENT
DTSTART;VALUE=DATE:20260328
DTEND;VALUE=DATE:20260329
DTSTAMP:20260424T184927
CREATED:20260206T173241Z
LAST-MODIFIED:20260223T060201Z
UID:2316-1774656000-1774742399@www.fsg-freyung.de
SUMMARY:Königsschießen
DESCRIPTION:
URL:https://www.fsg-freyung.de/event/koenigsschiessen-3/
ORGANIZER;CN="Feuersch%C3%BCtzengesellschaft Freyung 1625 e.V.":MAILTO:info@fsg-freyung.de
END:VEVENT
BEGIN:VEVENT
DTSTART;TZID=Europe/Berlin:20260318T190000
DTEND;TZID=Europe/Berlin:20260318T210000
DTSTAMP:20260424T184927
CREATED:20260212T192325Z
LAST-MODIFIED:20260212T192325Z
UID:2351-1773860400-1773867600@www.fsg-freyung.de
SUMMARY:Musikantenzamkemma
DESCRIPTION:
URL:https://www.fsg-freyung.de/event/musikantenzamkemma-2/
ORGANIZER;CN="Feuersch%C3%BCtzengesellschaft Freyung 1625 e.V.":MAILTO:info@fsg-freyung.de
END:VEVENT
BEGIN:VEVENT
DTSTART;TZID=Europe/Berlin:20260218T190000
DTEND;TZID=Europe/Berlin:20260218T210000
DTSTAMP:20260424T184927
CREATED:20260212T192241Z
LAST-MODIFIED:20260212T192424Z
UID:2349-1771441200-1771448400@www.fsg-freyung.de
SUMMARY:Musikantenzamkemma
DESCRIPTION:
URL:https://www.fsg-freyung.de/event/musikantenzamkemma/
ORGANIZER;CN="Feuersch%C3%BCtzengesellschaft Freyung 1625 e.V.":MAILTO:info@fsg-freyung.de
END:VEVENT
BEGIN:VEVENT
DTSTART;TZID=Europe/Berlin:20260110T100000
DTEND;TZID=Europe/Berlin:20260110T180000
DTSTAMP:20260424T184927
CREATED:20251214T045644Z
LAST-MODIFIED:20251214T045644Z
UID:2300-1768039200-1768068000@www.fsg-freyung.de
SUMMARY:🎯 Einladung zum Glücks- & Westernschießen 🎯
DESCRIPTION:🎯 Einladung zum Glücks- & Westernschießen 🎯 \nLiebe Stammtische\, Vereine\, Behörden\,\nliebe Schützenkolleginnen und Schützen\,\nliebe Freunde und Förderer\, \nentgegen unserer bisherigen Tradition veranstalten wir im Januar ein Glücksschießen und laden euch hierzu herzlich ein. \nDas allseits beliebte Westernschießen fällt selbstverständlich nicht aus – es wird lediglich auf einen späteren Termin verschoben\, damit wir es bei wärmeren Temperaturen wieder in seinem gewohnten\, traditionellen Rahmen durchführen können. \nFreut euch dann auf echtes Western-Feeling mit:\n🔥 Tonnenfeuer\n🏹 Bogenschießen\n🐎 Pferden vor der Tür\n🤠 und allem\, was zu einem stilechten Westernschießen dazugehört \n🔫 Schießmodus \nGeschossen wird im Sitzen auf sogenannte Western-Sattel.\nDas Schießen ist für alle Teilnehmer geeignet und steht ganz im Zeichen von Spaß\, Geselligkeit und Gemeinschaft. \n🤠 Westernstyle erwünscht \nWir freuen uns über alle Teilnehmer im Westernstil – ob Cowboy\, Cowgirl\, Indianer oder thematisch passend gekleidet. Der Fantasie sind keine Grenzen gesetzt! \n🏆 Prämierung \nNatürlich wird es auch wieder eine Prämierung geben:\n• für die besten Darsteller im Westernstyle\n• sowie für die Gewinner des Westernschießens \nAnmeldung unter: schuetzenmeister@fsg-freyung.de \nWir freuen uns auf einen geselligen\, stimmungsvollen und unvergesslichen Tag mit euch!\nMit sportlichen Gruß\nEuer Schützenmeister-Amt
URL:https://www.fsg-freyung.de/event/%f0%9f%8e%af-einladung-zum-gluecks-westernschiessen-%f0%9f%8e%af/
END:VEVENT
BEGIN:VEVENT
DTSTART;VALUE=DATE:20250714
DTEND;VALUE=DATE:20250715
DTSTAMP:20260424T184927
CREATED:20250412T121957Z
LAST-MODIFIED:20250412T122220Z
UID:2231-1752451200-1752537599@www.fsg-freyung.de
SUMMARY:Vorderladerschießen
DESCRIPTION:
URL:https://www.fsg-freyung.de/event/vorderladerschiessen-2/
END:VEVENT
BEGIN:VEVENT
DTSTART;VALUE=DATE:20250713
DTEND;VALUE=DATE:20250715
DTSTAMP:20260424T184927
CREATED:20250412T122108Z
LAST-MODIFIED:20250412T122108Z
UID:2233-1752364800-1752537599@www.fsg-freyung.de
SUMMARY:Laden & Wiederladen von Patronenhülsen
DESCRIPTION:
URL:https://www.fsg-freyung.de/event/laden-wiederladen-von-patronenhuelsen/
END:VEVENT
BEGIN:VEVENT
DTSTART;VALUE=DATE:20250712
DTEND;VALUE=DATE:20250713
DTSTAMP:20260424T184927
CREATED:20250412T121938Z
LAST-MODIFIED:20250412T122204Z
UID:2229-1752278400-1752364799@www.fsg-freyung.de
SUMMARY:Vorderladerschießen
DESCRIPTION:
URL:https://www.fsg-freyung.de/event/vorderladerschiessen/
END:VEVENT
BEGIN:VEVENT
DTSTART;TZID=Europe/Berlin:20250118T100000
DTEND;TZID=Europe/Berlin:20250118T160000
DTSTAMP:20260424T184927
CREATED:20241203T083546Z
LAST-MODIFIED:20241203T083546Z
UID:2206-1737194400-1737216000@www.fsg-freyung.de
SUMMARY:Westernschießen 2025
DESCRIPTION:
URL:https://www.fsg-freyung.de/event/westernschiessen-2025-2/
END:VEVENT
BEGIN:VEVENT
DTSTART;TZID=Europe/Berlin:20250117T170000
DTEND;TZID=Europe/Berlin:20250117T200000
DTSTAMP:20260424T184927
CREATED:20241203T083521Z
LAST-MODIFIED:20241203T083521Z
UID:2204-1737133200-1737144000@www.fsg-freyung.de
SUMMARY:Westernschießen 2025
DESCRIPTION:
URL:https://www.fsg-freyung.de/event/westernschiessen-2025/
END:VEVENT
BEGIN:VEVENT
DTSTART;VALUE=DATE:20241207
DTEND;VALUE=DATE:20241208
DTSTAMP:20260424T184927
CREATED:20240905T045001Z
LAST-MODIFIED:20240905T045001Z
UID:2137-1733529600-1733615999@www.fsg-freyung.de
SUMMARY:100 Meter Stand wegen Gaumeisterschaft nicht verfügbar
DESCRIPTION:
URL:https://www.fsg-freyung.de/event/100-meter-stand-wegen-gaumeisterschaft-nicht-verfuegbar/
LOCATION:Schützenheim FSG 1625 e.V.\, Am Goldenen Steig 25\, 94078\, Bayern\, 94078\, Deutschland
ORGANIZER;CN="Feuersch%C3%BCtzengesellschaft Freyung 1625 e.V.":MAILTO:info@fsg-freyung.de
END:VEVENT
BEGIN:VEVENT
DTSTART;TZID=Europe/Berlin:20241116T080000
DTEND;TZID=Europe/Berlin:20241116T170000
DTSTAMP:20260424T184927
CREATED:20240827T085240Z
LAST-MODIFIED:20240827T085306Z
UID:2109-1731744000-1731776400@www.fsg-freyung.de
SUMMARY:Waffensachkunde (Tag 2)
DESCRIPTION:Weitere Informationen: \nWaffensachkunde: Unterricht und Prüfung \n \n 
URL:https://www.fsg-freyung.de/event/waffensachkunde-tag-2/
LOCATION:Schützenheim FSG 1625 e.V.\, Am Goldenen Steig 25\, 94078\, Bayern\, 94078\, Deutschland
ORGANIZER;CN="Feuersch%C3%BCtzengesellschaft Freyung 1625 e.V.":MAILTO:info@fsg-freyung.de
END:VEVENT
BEGIN:VEVENT
DTSTART;TZID=Europe/Berlin:20241115T130000
DTEND;TZID=Europe/Berlin:20241115T190000
DTSTAMP:20260424T184927
CREATED:20240827T085215Z
LAST-MODIFIED:20240827T085321Z
UID:2107-1731675600-1731697200@www.fsg-freyung.de
SUMMARY:Waffensachkunde (Tag 1)
DESCRIPTION:Weitere Informationen: \nWaffensachkunde: Unterricht und Prüfung \n \n 
URL:https://www.fsg-freyung.de/event/waffensachkunde-tag-1/
LOCATION:Schützenheim FSG 1625 e.V.\, Am Goldenen Steig 25\, 94078\, Bayern\, 94078\, Deutschland
ORGANIZER;CN="Feuersch%C3%BCtzengesellschaft Freyung 1625 e.V.":MAILTO:info@fsg-freyung.de
END:VEVENT
BEGIN:VEVENT
DTSTART;VALUE=DATE:20241109
DTEND;VALUE=DATE:20241110
DTSTAMP:20260424T184927
CREATED:20240905T044920Z
LAST-MODIFIED:20240905T044920Z
UID:2135-1731110400-1731196799@www.fsg-freyung.de
SUMMARY:25 Meter Stand wegen Gaumeisterschaft nicht verfügbar
DESCRIPTION:
URL:https://www.fsg-freyung.de/event/25-meter-stand-wegen-gaumeisterschaft-nicht-verfuegbar-2/
LOCATION:Schützenheim FSG 1625 e.V.\, Am Goldenen Steig 25\, 94078\, Bayern\, 94078\, Deutschland
ORGANIZER;CN="Feuersch%C3%BCtzengesellschaft Freyung 1625 e.V.":MAILTO:info@fsg-freyung.de
END:VEVENT
BEGIN:VEVENT
DTSTART;VALUE=DATE:20241026
DTEND;VALUE=DATE:20241027
DTSTAMP:20260424T184927
CREATED:20240905T044759Z
LAST-MODIFIED:20240905T044759Z
UID:2133-1729900800-1729987199@www.fsg-freyung.de
SUMMARY:25 Meter Stand wegen Gaumeisterschaft nicht verfügbar
DESCRIPTION:
URL:https://www.fsg-freyung.de/event/25-meter-stand-wegen-gaumeisterschaft-nicht-verfuegbar/
LOCATION:Schützenheim FSG 1625 e.V.\, Am Goldenen Steig 25\, 94078\, Bayern\, 94078\, Deutschland
ORGANIZER;CN="Feuersch%C3%BCtzengesellschaft Freyung 1625 e.V.":MAILTO:info@fsg-freyung.de
END:VEVENT
BEGIN:VEVENT
DTSTART;VALUE=DATE:20241005
DTEND;VALUE=DATE:20241006
DTSTAMP:20260424T184927
CREATED:20240905T044704Z
LAST-MODIFIED:20240905T044704Z
UID:2131-1728086400-1728172799@www.fsg-freyung.de
SUMMARY:100 Meter Stand wegen Gaumeisterschaft teilweise nicht verfügbar
DESCRIPTION:
URL:https://www.fsg-freyung.de/event/100-meter-stand-wegen-gaumeisterschaft-teilweise-nicht-verfuegbar/
LOCATION:Schützenheim FSG 1625 e.V.\, Am Goldenen Steig 25\, 94078\, Bayern\, 94078\, Deutschland
ORGANIZER;CN="Feuersch%C3%BCtzengesellschaft Freyung 1625 e.V.":MAILTO:info@fsg-freyung.de
END:VEVENT
BEGIN:VEVENT
DTSTART;TZID=Europe/Berlin:20240914T080000
DTEND;TZID=Europe/Berlin:20240914T170000
DTSTAMP:20260424T184927
CREATED:20240827T085103Z
LAST-MODIFIED:20240827T085331Z
UID:2103-1726300800-1726333200@www.fsg-freyung.de
SUMMARY:Waffensachkunde (Tag 2)
DESCRIPTION:Weitere Informationen: \nWaffensachkunde: Unterricht und Prüfung \n \n 
URL:https://www.fsg-freyung.de/event/waffensachkunde-unterricht-und-pruefung/
LOCATION:Schützenheim FSG 1625 e.V.\, Am Goldenen Steig 25\, 94078\, Bayern\, 94078\, Deutschland
ORGANIZER;CN="Feuersch%C3%BCtzengesellschaft Freyung 1625 e.V.":MAILTO:info@fsg-freyung.de
END:VEVENT
BEGIN:VEVENT
DTSTART;TZID=Europe/Berlin:20240913T130000
DTEND;TZID=Europe/Berlin:20240913T190000
DTSTAMP:20260424T184927
CREATED:20240827T085023Z
LAST-MODIFIED:20240827T085347Z
UID:2101-1726232400-1726254000@www.fsg-freyung.de
SUMMARY:Waffensachkunde (Tag 1)
DESCRIPTION:Weitere Informationen: \nWaffensachkunde: Unterricht und Prüfung \n \n 
URL:https://www.fsg-freyung.de/event/waffensachkunde-unterricht/
LOCATION:Schützenheim FSG 1625 e.V.\, Am Goldenen Steig 25\, 94078\, Bayern\, 94078\, Deutschland
ORGANIZER;CN="Feuersch%C3%BCtzengesellschaft Freyung 1625 e.V.":MAILTO:info@fsg-freyung.de
END:VEVENT
BEGIN:VEVENT
DTSTART;VALUE=DATE:20240829
DTEND;VALUE=DATE:20240830
DTSTAMP:20260424T184927
CREATED:20240802T073059Z
LAST-MODIFIED:20240802T073059Z
UID:2067-1724889600-1724975999@www.fsg-freyung.de
SUMMARY:Böllerbeschuss
DESCRIPTION:Weitere Informationen zum aktuellen Termin gibt es hier.
URL:https://www.fsg-freyung.de/event/boellerbeschuss/
LOCATION:Schützenheim FSG 1625 e.V.\, Am Goldenen Steig 25\, 94078\, Bayern\, 94078\, Deutschland
ORGANIZER;CN="Feuersch%C3%BCtzengesellschaft Freyung 1625 e.V.":MAILTO:info@fsg-freyung.de
END:VEVENT
BEGIN:VEVENT
DTSTART;TZID=Europe/Berlin:20240817T090000
DTEND;TZID=Europe/Berlin:20240817T160000
DTSTAMP:20260424T184927
CREATED:20240612T073723Z
LAST-MODIFIED:20240731T153132Z
UID:1992-1723885200-1723910400@www.fsg-freyung.de
SUMMARY:Tag der offenen Tür 2024 - Vereinsbeitritt ohne Aufnahmegebühr!
DESCRIPTION:Wir laden herzlich ein zum Tag der offenen Tür 2024. \nAn diesem Tag können alles Stände besichtigt werden und es kann unter Aufsicht und Einhaltung der gegebenen Vorschriften mit allen Vereinswaffen geschossen werden. \nWer sich an diesem Tag für einen Beitritt zur FSG 1625 Freyung e.V. entscheidet\, zahlt traditionell keine Aufnahmegebühr. Vorbei kommen lohnt sich also! \nBei schönem Wetter findet auf dem Parkplatz auch wieder der bekannte Flohmarkt statt.\nAlle Verkäufer melden sich bitte vorab telefonisch bei Christa Kellhammer unter 0171-8587674 an. \nSelbstverständlich wird mit Grillspezialitäten sowie Kaffee und Kuchen auch für das leibliche Wohl gesorgt. \nDie Teilnahme am Glücksschießen mit dem Luftgewehr oder KK-Gewehr besteht stündlich die Chance auf tolle Gewinne! \nWir freuen uns auf viele Besucher!
URL:https://www.fsg-freyung.de/event/tag-der-offenen-tuer-kostenlose-aufnahme-von-mitgliedern/
LOCATION:Schützenheim FSG 1625 e.V.\, Am Goldenen Steig 25\, 94078\, Bayern\, 94078\, Deutschland
ORGANIZER;CN="Feuersch%C3%BCtzengesellschaft Freyung 1625 e.V.":MAILTO:info@fsg-freyung.de
END:VEVENT
BEGIN:VEVENT
DTSTART;VALUE=DATE:20240713
DTEND;VALUE=DATE:20240714
DTSTAMP:20260424T184927
CREATED:20240612T073623Z
LAST-MODIFIED:20240612T073623Z
UID:1989-1720828800-1720915199@www.fsg-freyung.de
SUMMARY:Arbeitseinsatz auf allen Ständen - KEIN SCHIEßBETRIEB!!!
DESCRIPTION:
URL:https://www.fsg-freyung.de/event/arbeitseinsatz-auf-allen-staenden-kein-schiessbetrieb/
LOCATION:Schützenheim FSG 1625 e.V.\, Am Goldenen Steig 25\, 94078\, Bayern\, 94078\, Deutschland
ORGANIZER;CN="Feuersch%C3%BCtzengesellschaft Freyung 1625 e.V.":MAILTO:info@fsg-freyung.de
END:VEVENT
BEGIN:VEVENT
DTSTART;TZID=Europe/Berlin:20240510T180000
DTEND;TZID=Europe/Berlin:20240510T200000
DTSTAMP:20260424T184927
CREATED:20240201T091120Z
LAST-MODIFIED:20240206T072911Z
UID:1805-1715364000-1715371200@www.fsg-freyung.de
SUMMARY:Siegerehrung!!!!! - 33. KK- Meisterschaft f. Stammtische\, Behörden und Vereine 2024
DESCRIPTION:
URL:https://www.fsg-freyung.de/event/siegerehrung-33-kk-meisterschaft-f-stammtische-behoerden-und-vereine-2024/
END:VEVENT
BEGIN:VEVENT
DTSTART;TZID=Europe/Berlin:20240505T090000
DTEND;TZID=Europe/Berlin:20240505T120000
DTSTAMP:20260424T184927
CREATED:20240206T072951Z
LAST-MODIFIED:20240327T164628Z
UID:1808-1714899600-1714910400@www.fsg-freyung.de
SUMMARY:33. KK- Meisterschaft f. Stammtische\, Behörden und Vereine 2024
DESCRIPTION:Hinweis: Es darf nur mit Gewehren der FSG 1625 Freyung e.V. geschossen werden. \nWie wird geschossen? \n\nKK-Gewehr liegend aufgelegt oder auf Wunsch auch sitzend aufgelegt\n5 Probe- und 10 Wertungsschüsse\n1 „Blattschuss“\nWaffen und Munition stellt der Veranstalter\n\nMannschaften und Wertung \n\nEine Mannschaft hat beliebig viele Starter.\nDie Teilnehmer der Mannschaft können an unterschiedlichen Tagen schießen.\nFür die Mannschaftswertung zählen jeweils die 6 besten Schützen aus der Mannschaft.\nJeder Teilnehmer (Mindestalter 14 Jahre) darf nur für eine Mannschaft antreten.\nBei Ringgleichheit entscheidet die 2. Serie (Deckserie) und evtl. der Blattlschuss\nEs erfolgt keine besondere Damenwertung – die beste Schützin\, die nicht unter den 10 Einzelsiegern ist\, erhält einen Blumenstrauß\nSchützenvereine sind nicht startberechtigt – aktive Schützen dürfen jedoch für eine Mannschaft (Stammtisch/Behörde/Verein) antreten\n\nDie Startgebühr beträgt 5\,- Euro je Schütze. Nachkauf 3\,- € (einmaliger Nachkauf\, ohne „Blattlschuss“ möglich). \nAnmeldung per E-Mail an anmeldung@fsg-freyung.de \nDie Siegerehrung findet am 10. Mai um 19 Uhr im Schützenhaus statt.
URL:https://www.fsg-freyung.de/event/33-kk-meisterschaft-f-stammtische-behoerden-und-vereine-2024-5/
END:VEVENT
BEGIN:VEVENT
DTSTART;TZID=Europe/Berlin:20240504T130000
DTEND;TZID=Europe/Berlin:20240504T170000
DTSTAMP:20260424T184927
CREATED:20240201T090953Z
LAST-MODIFIED:20240327T164646Z
UID:1803-1714827600-1714842000@www.fsg-freyung.de
SUMMARY:33. KK- Meisterschaft f. Stammtische\, Behörden und Vereine 2024
DESCRIPTION:Hinweis: Es darf nur mit Gewehren der FSG 1625 Freyung e.V. geschossen werden. \nWie wird geschossen? \n\nKK-Gewehr liegend aufgelegt oder auf Wunsch auch sitzend aufgelegt\n5 Probe- und 10 Wertungsschüsse\n1 „Blattschuss“\nWaffen und Munition stellt der Veranstalter\n\nMannschaften und Wertung \n\nEine Mannschaft hat beliebig viele Starter.\nDie Teilnehmer der Mannschaft können an unterschiedlichen Tagen schießen.\nFür die Mannschaftswertung zählen jeweils die 6 besten Schützen aus der Mannschaft.\nJeder Teilnehmer (Mindestalter 14 Jahre) darf nur für eine Mannschaft antreten.\nBei Ringgleichheit entscheidet die 2. Serie (Deckserie) und evtl. der Blattlschuss\nEs erfolgt keine besondere Damenwertung – die beste Schützin\, die nicht unter den 10 Einzelsiegern ist\, erhält einen Blumenstrauß\nSchützenvereine sind nicht startberechtigt – aktive Schützen dürfen jedoch für eine Mannschaft (Stammtisch/Behörde/Verein) antreten\n\nDie Startgebühr beträgt 5\,- Euro je Schütze. Nachkauf 3\,- € (einmaliger Nachkauf\, ohne „Blattlschuss“ möglich). \nAnmeldung per E-Mail an anmeldung@fsg-freyung.de \nDie Siegerehrung findet am 10. Mai um 19 Uhr im Schützenhaus statt.
URL:https://www.fsg-freyung.de/event/33-kk-meisterschaft-f-stammtische-behoerden-und-vereine-2024-4/
END:VEVENT
BEGIN:VEVENT
DTSTART;TZID=Europe/Berlin:20240430T170000
DTEND;TZID=Europe/Berlin:20240430T200000
DTSTAMP:20260424T184927
CREATED:20240201T090812Z
LAST-MODIFIED:20240327T164657Z
UID:1799-1714496400-1714507200@www.fsg-freyung.de
SUMMARY:33. KK- Meisterschaft f. Stammtische\, Behörden und Vereine 2024
DESCRIPTION:Hinweis: Es darf nur mit Gewehren der FSG 1625 Freyung e.V. geschossen werden. \nWie wird geschossen? \n\nKK-Gewehr liegend aufgelegt oder auf Wunsch auch sitzend aufgelegt\n5 Probe- und 10 Wertungsschüsse\n1 „Blattschuss“\nWaffen und Munition stellt der Veranstalter\n\nMannschaften und Wertung \n\nEine Mannschaft hat beliebig viele Starter.\nDie Teilnehmer der Mannschaft können an unterschiedlichen Tagen schießen.\nFür die Mannschaftswertung zählen jeweils die 6 besten Schützen aus der Mannschaft.\nJeder Teilnehmer (Mindestalter 14 Jahre) darf nur für eine Mannschaft antreten.\nBei Ringgleichheit entscheidet die 2. Serie (Deckserie) und evtl. der Blattlschuss\nEs erfolgt keine besondere Damenwertung – die beste Schützin\, die nicht unter den 10 Einzelsiegern ist\, erhält einen Blumenstrauß\nSchützenvereine sind nicht startberechtigt – aktive Schützen dürfen jedoch für eine Mannschaft (Stammtisch/Behörde/Verein) antreten\n\nDie Startgebühr beträgt 5\,- Euro je Schütze. Nachkauf 3\,- € (einmaliger Nachkauf\, ohne „Blattlschuss“ möglich). \nAnmeldung per E-Mail an anmeldung@fsg-freyung.de \nDie Siegerehrung findet am 10. Mai um 19 Uhr im Schützenhaus statt.
URL:https://www.fsg-freyung.de/event/33-kk-meisterschaft-f-stammtische-behoerden-und-vereine-2024-2/
LOCATION:Schützenheim FSG 1625 e.V.\, Am Goldenen Steig 25\, 94078\, Bayern\, 94078\, Deutschland
ORGANIZER;CN="Feuersch%C3%BCtzengesellschaft Freyung 1625 e.V.":MAILTO:info@fsg-freyung.de
END:VEVENT
BEGIN:VEVENT
DTSTART;TZID=Europe/Berlin:20240428T090000
DTEND;TZID=Europe/Berlin:20240428T120000
DTSTAMP:20260424T184927
CREATED:20240201T090919Z
LAST-MODIFIED:20240327T164710Z
UID:1801-1714294800-1714305600@www.fsg-freyung.de
SUMMARY:33. KK- Meisterschaft f. Stammtische\, Behörden und Vereine 2024
DESCRIPTION:Hinweis: Es darf nur mit Gewehren der FSG 1625 Freyung e.V. geschossen werden. \nWie wird geschossen? \n\nKK-Gewehr liegend aufgelegt oder auf Wunsch auch sitzend aufgelegt\n5 Probe- und 10 Wertungsschüsse\n1 „Blattschuss“\nWaffen und Munition stellt der Veranstalter\n\nMannschaften und Wertung \n\nEine Mannschaft hat beliebig viele Starter.\nDie Teilnehmer der Mannschaft können an unterschiedlichen Tagen schießen.\nFür die Mannschaftswertung zählen jeweils die 6 besten Schützen aus der Mannschaft.\nJeder Teilnehmer (Mindestalter 14 Jahre) darf nur für eine Mannschaft antreten.\nBei Ringgleichheit entscheidet die 2. Serie (Deckserie) und evtl. der Blattlschuss\nEs erfolgt keine besondere Damenwertung – die beste Schützin\, die nicht unter den 10 Einzelsiegern ist\, erhält einen Blumenstrauß\nSchützenvereine sind nicht startberechtigt – aktive Schützen dürfen jedoch für eine Mannschaft (Stammtisch/Behörde/Verein) antreten\n\nDie Startgebühr beträgt 5\,- Euro je Schütze. Nachkauf 3\,- € (einmaliger Nachkauf\, ohne „Blattlschuss“ möglich). \nAnmeldung per E-Mail an anmeldung@fsg-freyung.de \nDie Siegerehrung findet am 10. Mai um 19 Uhr im Schützenhaus statt.
URL:https://www.fsg-freyung.de/event/33-kk-meisterschaft-f-stammtische-behoerden-und-vereine-2024-3/
END:VEVENT
BEGIN:VEVENT
DTSTART;TZID=Europe/Berlin:20240427T130000
DTEND;TZID=Europe/Berlin:20240427T170000
DTSTAMP:20260424T184927
CREATED:20240201T090650Z
LAST-MODIFIED:20240327T164723Z
UID:1797-1714222800-1714237200@www.fsg-freyung.de
SUMMARY:33. KK- Meisterschaft f. Stammtische\, Behörden und Vereine 2024
DESCRIPTION:Hinweis: Es darf nur mit Gewehren der FSG 1625 Freyung e.V. geschossen werden. \nWie wird geschossen? \n\nKK-Gewehr liegend aufgelegt oder auf Wunsch auch sitzend aufgelegt\n5 Probe- und 10 Wertungsschüsse\n1 „Blattschuss“\nWaffen und Munition stellt der Veranstalter\n\nMannschaften und Wertung \n\nEine Mannschaft hat beliebig viele Starter.\nDie Teilnehmer der Mannschaft können an unterschiedlichen Tagen schießen.\nFür die Mannschaftswertung zählen jeweils die 6 besten Schützen aus der Mannschaft.\nJeder Teilnehmer (Mindestalter 14 Jahre) darf nur für eine Mannschaft antreten.\nBei Ringgleichheit entscheidet die 2. Serie (Deckserie) und evtl. der Blattlschuss\nEs erfolgt keine besondere Damenwertung – die beste Schützin\, die nicht unter den 10 Einzelsiegern ist\, erhält einen Blumenstrauß\nSchützenvereine sind nicht startberechtigt – aktive Schützen dürfen jedoch für eine Mannschaft (Stammtisch/Behörde/Verein) antreten\n\nDie Startgebühr beträgt 5\,- Euro je Schütze. Nachkauf 3\,- € (einmaliger Nachkauf\, ohne „Blattlschuss“ möglich). \nAnmeldung per E-Mail an anmeldung@fsg-freyung.de \nDie Siegerehrung findet am 10. Mai um 19 Uhr im Schützenhaus statt.
URL:https://www.fsg-freyung.de/event/33-kk-meisterschaft-f-stammtische-behoerden-und-vereine-2024/
LOCATION:Schützenheim FSG 1625 e.V.\, Am Goldenen Steig 25\, 94078\, Bayern\, 94078\, Deutschland
ORGANIZER;CN="Feuersch%C3%BCtzengesellschaft Freyung 1625 e.V.":MAILTO:info@fsg-freyung.de
END:VEVENT
BEGIN:VEVENT
DTSTART;TZID=Europe/Berlin:20240406T080000
DTEND;TZID=Europe/Berlin:20240406T170000
DTSTAMP:20260424T184927
CREATED:20240212T164404Z
LAST-MODIFIED:20240212T170849Z
UID:1825-1712390400-1712422800@www.fsg-freyung.de
SUMMARY:Waffensachkunde: Unterricht und Prüfung
DESCRIPTION:Im Unterricht zur Waffensachkunde erwirbt man grundlegende Kenntnisse über den Umgang mit Schusswaffen. Teilnehmer lernen unter anderem die rechtlichen Rahmenbedingungen\, Sicherheitsvorkehrungen\, Techniken zum Laden und Entladen von Waffen sowie grundlegende Schießtechniken. Dieser Kurs ist wichtig\, um ein Verständnis für die Verantwortung\, die mit dem Besitz und Gebrauch von Schusswaffen einhergeht\, zu entwickeln. Darüber ist der Kurs eine Voraussetzung für den Erwerb einer Waffenbesitzkarte (WBK). Durch die Teilnahme an einem solchen Kurs gewährleisten die Teilnehmer die Sicherheit sowohl für sich selbst als auch für andere Personen im Umgang mit Schusswaffen. \nDer Kurs besteht aus zwei Kurstagen: Freitag\, 05.04.2024 von 13-19 Uhr und Samstag 06.04.2024 von 8-17 Uhr. \nDie Anmeldung zum Kurs ist ab sofort möglich. Bei Interesse können Sie sich gerne bei Herrn Andre Kaiser melden. \nKontaktdaten zum Ausbilder der Waffensachkunde:\nAndre Kaiser\na.kaiser@wsk-kaiser.de\nTel. +49 152 33834648
URL:https://www.fsg-freyung.de/event/unterricht-und-pruefung-waffensachkunde/
LOCATION:Schützenheim FSG 1625 e.V.\, Am Goldenen Steig 25\, 94078\, Bayern\, 94078\, Deutschland
ORGANIZER;CN="Feuersch%C3%BCtzengesellschaft Freyung 1625 e.V.":MAILTO:info@fsg-freyung.de
END:VEVENT
END:VCALENDAR